BEGIN:VCALENDAR
VERSION:2.0
PRODID:-//Dynamics User Group - ECPv6.15.12.2//NONSGML v1.0//EN
CALSCALE:GREGORIAN
METHOD:PUBLISH
X-WR-CALNAME:Dynamics User Group
X-ORIGINAL-URL:https://dynamicsusergroup.com
X-WR-CALDESC:Events for Dynamics User Group
REFRESH-INTERVAL;VALUE=DURATION:PT1H
X-Robots-Tag:noindex
X-PUBLISHED-TTL:PT1H
BEGIN:VTIMEZONE
TZID:America/Indiana/Indianapolis
BEGIN:DAYLIGHT
TZOFFSETFROM:-0500
TZOFFSETTO:-0400
TZNAME:EDT
DTSTART:20250309T070000
END:DAYLIGHT
BEGIN:STANDARD
TZOFFSETFROM:-0400
TZOFFSETTO:-0500
TZNAME:EST
DTSTART:20251102T060000
END:STANDARD
BEGIN:DAYLIGHT
TZOFFSETFROM:-0500
TZOFFSETTO:-0400
TZNAME:EDT
DTSTART:20260308T070000
END:DAYLIGHT
BEGIN:STANDARD
TZOFFSETFROM:-0400
TZOFFSETTO:-0500
TZNAME:EST
DTSTART:20261101T060000
END:STANDARD
BEGIN:DAYLIGHT
TZOFFSETFROM:-0500
TZOFFSETTO:-0400
TZNAME:EDT
DTSTART:20270314T070000
END:DAYLIGHT
BEGIN:STANDARD
TZOFFSETFROM:-0400
TZOFFSETTO:-0500
TZNAME:EST
DTSTART:20271107T060000
END:STANDARD
END:VTIMEZONE
BEGIN:VEVENT
DTSTART;TZID=America/Indiana/Indianapolis:20260506T150000
DTEND;TZID=America/Indiana/Indianapolis:20260506T170000
DTSTAMP:20260420T145640
CREATED:20251126T173058Z
LAST-MODIFIED:20260420T173050Z
UID:10001425-1778079600-1778086800@dynamicsusergroup.com
SUMMARY:May 2026 | Twin Cities Dynamics & Power Platform meetup
DESCRIPTION:We’re back with another Twin Cities Dynamics & Power Platform meetup and we’re excited to start sharing what’s coming next.\n📅 When: May 6\, 2026 | 3:00 to 5:00 PM\n📍 Where: Microsoft Office\, Edina\nWhether you’re a business leader\, consultant\, system admin\, maker\, or just curious about Microsoft Biz Apps\, this community is for you. Expect a mix of learning\, real-world insights\, and time to connect with peers across the ecosystem. \nAgenda (Still Taking Shape | Subject to Change)\nWe’re actively finalizing session topics\, speakers\, and timing.\nA more detailed agenda will be shared soon\, but here’s the general flow:\n3:00 PM\nWelcome + Community Updates\n3:15 PM\nFeatured Session #1 (Speaker and topic details coming soon)\n4:00 PM\nBreak + Networking\n4:10 PM\nFeatured Session #2 (Speaker and topic details coming soon)\n4:50 PM\nOpen Discussion / Q&A\n5:00 PM\nOptional Happy Hour / Continued Networking (location TBD) \nWhat to Expect\nWe’re planning another great mix of topics across the Microsoft Business Applications ecosystem\, including areas like: \n\nDynamics 365 (CRM + ERP)\nPower Platform\nCopilot and AI\nData and reporting\nIntegrations\nGovernance and adoption\nReal-world lessons learned\n\nAs always\, the goal is practical\, community-driven learning you can actually use. \nInterested in Presenting or Sponsoring?\nWe’re continuing to build out the 2026 calendar and would love to hear from you.\n🎤 Want to Present?\nWe’re looking for 30 to 45 minute sessions on CRM\, ERP\, Power Platform\, AI/Copilot\, governance\, adoption\, integrations\, and real-world stories.\n🏢 Interested in Sponsoring?\nSponsorship helps keep these events free\, welcoming\, and well-run. Reach out if you’d like to support an upcoming meetup. \nStay Connected\n💬 LinkedIn Group: https://www.linkedin.com/groups/14440317/\n📧 Email: D365TwinCities@Outlook.com
URL:https://dynamicsusergroup.com/event/may-twin-cities-dynamics-power-platform-user-group/
LOCATION:Microsoft Building EDINA MN\, 3601 W 76th St Ste 600\, Edina\, MN\, US
CATEGORIES:DUG Meetups
ATTACH;FMTTYPE=image/jpeg:https://dynamicsusergroup.com/wp-content/uploads/2025/11/23704_image_highres_529874229.jpeg
ORGANIZER;CN="Microsoft Dynamics User Group | Twin Cities":MAILTO:Microsoft-Dynamics-Meetup-of-Minneapolis-announce@messages.meetup.com
END:VEVENT
END:VCALENDAR