BEGIN:VCALENDAR
VERSION:2.0
PRODID:-//Dynamics User Group - ECPv6.15.12.2//NONSGML v1.0//EN
CALSCALE:GREGORIAN
METHOD:PUBLISH
X-ORIGINAL-URL:https://dynamicsusergroup.com
X-WR-CALDESC:Events for Dynamics User Group
REFRESH-INTERVAL;VALUE=DURATION:PT1H
X-Robots-Tag:noindex
X-PUBLISHED-TTL:PT1H
BEGIN:VTIMEZONE
TZID:America/Indiana/Indianapolis
BEGIN:DAYLIGHT
TZOFFSETFROM:-0500
TZOFFSETTO:-0400
TZNAME:EDT
DTSTART:20220313T070000
END:DAYLIGHT
BEGIN:STANDARD
TZOFFSETFROM:-0400
TZOFFSETTO:-0500
TZNAME:EST
DTSTART:20221106T060000
END:STANDARD
BEGIN:DAYLIGHT
TZOFFSETFROM:-0500
TZOFFSETTO:-0400
TZNAME:EDT
DTSTART:20230312T070000
END:DAYLIGHT
BEGIN:STANDARD
TZOFFSETFROM:-0400
TZOFFSETTO:-0500
TZNAME:EST
DTSTART:20231105T060000
END:STANDARD
BEGIN:DAYLIGHT
TZOFFSETFROM:-0500
TZOFFSETTO:-0400
TZNAME:EDT
DTSTART:20240310T070000
END:DAYLIGHT
BEGIN:STANDARD
TZOFFSETFROM:-0400
TZOFFSETTO:-0500
TZNAME:EST
DTSTART:20241103T060000
END:STANDARD
END:VTIMEZONE
BEGIN:VEVENT
DTSTART;VALUE=DATE:20230925
DTEND;VALUE=DATE:20230927
DTSTAMP:20260421T013040
CREATED:20230831T151850Z
LAST-MODIFIED:20230831T170915Z
UID:10000011-1695600000-1695772799@dynamicsusergroup.com
SUMMARY:WennSoft Synergy 2023
DESCRIPTION:Dynamics User Group (DUG) is a proud Gold Sponsor of WennSoft Synergy in San Antonio\, Texas at The JW Marriott Hill Country Resort & Spa\, September 25-26\, 2023 \nSynergy is a conference designed to help WennSoft users learn how to get the most out of their solutions. \nhttps://wennsoftsynergy.com/
URL:https://dynamicsusergroup.com/event/wennsoft-synergy-2023/
LOCATION:JW Marriott Hill Country Resort & Spa\, 23808 Resort Pkwy\, San Antonio\, TX\, 78261
CATEGORIES:In-Person Conference
ATTACH;FMTTYPE=image/png:https://dynamicsusergroup.com/wp-content/uploads/2023/08/WennSoft-Synergy-2023.png
END:VEVENT
END:VCALENDAR