BEGIN:VCALENDAR
VERSION:2.0
PRODID:-//Dynamics User Group - ECPv6.15.12.2//NONSGML v1.0//EN
CALSCALE:GREGORIAN
METHOD:PUBLISH
X-ORIGINAL-URL:https://dynamicsusergroup.com
X-WR-CALDESC:Events for Dynamics User Group
REFRESH-INTERVAL;VALUE=DURATION:PT1H
X-Robots-Tag:noindex
X-PUBLISHED-TTL:PT1H
BEGIN:VTIMEZONE
TZID:America/Indiana/Indianapolis
BEGIN:DAYLIGHT
TZOFFSETFROM:-0500
TZOFFSETTO:-0400
TZNAME:EDT
DTSTART:20240310T070000
END:DAYLIGHT
BEGIN:STANDARD
TZOFFSETFROM:-0400
TZOFFSETTO:-0500
TZNAME:EST
DTSTART:20241103T060000
END:STANDARD
BEGIN:DAYLIGHT
TZOFFSETFROM:-0500
TZOFFSETTO:-0400
TZNAME:EDT
DTSTART:20250309T070000
END:DAYLIGHT
BEGIN:STANDARD
TZOFFSETFROM:-0400
TZOFFSETTO:-0500
TZNAME:EST
DTSTART:20251102T060000
END:STANDARD
BEGIN:DAYLIGHT
TZOFFSETFROM:-0500
TZOFFSETTO:-0400
TZNAME:EDT
DTSTART:20260308T070000
END:DAYLIGHT
BEGIN:STANDARD
TZOFFSETFROM:-0400
TZOFFSETTO:-0500
TZNAME:EST
DTSTART:20261101T060000
END:STANDARD
END:VTIMEZONE
BEGIN:VEVENT
DTSTART;TZID=America/Indiana/Indianapolis:20250423T140000
DTEND;TZID=America/Indiana/Indianapolis:20250423T150000
DTSTAMP:20260420T233937
CREATED:20250423T133135Z
LAST-MODIFIED:20250423T133135Z
UID:10001099-1745416800-1745420400@dynamicsusergroup.com
SUMMARY:Team-Up Partner Showcase: EDI Myths Debunked: Uncovering the Truth with TrueCommerce
DESCRIPTION:REGISTER HERE \nMany businesses think they understand EDI\, but outdated theories often lead to inefficiencies and missed opportunities. In this “EDI Myths Debunked” webinar\, TrueCommerce is setting the record straight—exclusively for Microsoft Dynamics 365 Business Central and Finance & Supply Chain users. Join us as we explore the top five myths about EDI\, from “you must use a specific provider” to “it’s just a compliance tool\,” and discover how modern\, cloud-based EDI solutions can transform your operations. Through real-world examples and success stories\, you’ll see how Dynamics users are leveraging EDI to streamline workflows\, reduce errors\, and drive growth. Don’t miss this opportunity to rethink EDI and unlock its full potential.  \n  \n  \n 
URL:https://dynamicsusergroup.com/event/team-up-partner-showcase-edi-myths-debunked-uncovering-the-truth-with-truecommerce/
LOCATION:Online event
CATEGORIES:Team-Up Partner Event
ATTACH;FMTTYPE=image/png:https://dynamicsusergroup.com/wp-content/uploads/2025/04/True-Commerce-Team-Up-Webinar-DUG-Listing.png
END:VEVENT
END:VCALENDAR