BEGIN:VCALENDAR
VERSION:2.0
PRODID:-//Dynamics User Group - ECPv6.15.12.2//NONSGML v1.0//EN
CALSCALE:GREGORIAN
METHOD:PUBLISH
X-ORIGINAL-URL:https://dynamicsusergroup.com
X-WR-CALDESC:Events for Dynamics User Group
REFRESH-INTERVAL;VALUE=DURATION:PT1H
X-Robots-Tag:noindex
X-PUBLISHED-TTL:PT1H
BEGIN:VTIMEZONE
TZID:America/Indiana/Indianapolis
BEGIN:DAYLIGHT
TZOFFSETFROM:-0500
TZOFFSETTO:-0400
TZNAME:EDT
DTSTART:20250309T070000
END:DAYLIGHT
BEGIN:STANDARD
TZOFFSETFROM:-0400
TZOFFSETTO:-0500
TZNAME:EST
DTSTART:20251102T060000
END:STANDARD
BEGIN:DAYLIGHT
TZOFFSETFROM:-0500
TZOFFSETTO:-0400
TZNAME:EDT
DTSTART:20260308T070000
END:DAYLIGHT
BEGIN:STANDARD
TZOFFSETFROM:-0400
TZOFFSETTO:-0500
TZNAME:EST
DTSTART:20261101T060000
END:STANDARD
BEGIN:DAYLIGHT
TZOFFSETFROM:-0500
TZOFFSETTO:-0400
TZNAME:EDT
DTSTART:20270314T070000
END:DAYLIGHT
BEGIN:STANDARD
TZOFFSETFROM:-0400
TZOFFSETTO:-0500
TZNAME:EST
DTSTART:20271107T060000
END:STANDARD
END:VTIMEZONE
BEGIN:VEVENT
DTSTART;TZID=America/Indiana/Indianapolis:20260422T100000
DTEND;TZID=America/Indiana/Indianapolis:20260422T123000
DTSTAMP:20260420T125748
CREATED:20260328T172325Z
LAST-MODIFIED:20260419T172326Z
UID:10001613-1776852000-1776861000@dynamicsusergroup.com
SUMMARY:April Indiana D365 F&O/BC Meeting
DESCRIPTION:We’re working on some great speakers for the April meeting. Agenda TBA: \n11 Welcome\n11:15 Michael Franchino – Using MCP in BC: Turning AI from Novelty into Tooling\nNoon – Networking Lunch\n12:30 Dan Gianguilio – From complex to configured: making advanced warehousing work for you\n1:25 Mark Zerr – Ohh\, Cool Button’s\n2:00 Closing Remarks \nYou’re invited to Indiana D365 April User Group Meeting \nWed Apr 22\, 2026 \n11:00 AM—1:30 PM (EST) \nhttps://teams.microsoft.com/l/meetup-join/19%3ameeting_NDQ3M2ExZWMtNzg5YS00N2M3LTkyNTItZmY0M2Q2NWFmYzBl%40thread.v2/0?context=%7b%22Tid%22%3a%22b4c9f32e-da17-4ded-9c95-ce9da38f25d9%22%2c%22Oid%22%3a%2267db4a27-1865-4ea7-bb20-a28137a8aa56%22%7d \nTap on the link or paste it in a browser to join.
URL:https://dynamicsusergroup.com/event/april-indiana-d365-fo-bc-meeting/
LOCATION:New Sunshine\, 8001 Woodland Dr\,\, Indianapolis\, IN\, 46278\, US
CATEGORIES:DUG Meetups
ATTACH;FMTTYPE=image/jpeg:https://dynamicsusergroup.com/wp-content/uploads/2025/12/24124_image_highres_507431079.jpeg
ORGANIZER;CN="Microsoft Dynamics 365 Indiana":MAILTO:meetup-group-surlrzkr-announce@messages.meetup.com
END:VEVENT
BEGIN:VEVENT
DTSTART;TZID=America/Indiana/Indianapolis:20260512T170000
DTEND;TZID=America/Indiana/Indianapolis:20260515T120000
DTSTAMP:20260420T125748
CREATED:20260306T172326Z
LAST-MODIFIED:20260419T172326Z
UID:10001562-1778605200-1778846400@dynamicsusergroup.com
SUMMARY:DynamicsCon 2026
DESCRIPTION:REGISTER TODAY!\n***Only those who have registered through Eventbrite will be permitted entry to the event. RSVPing on the Meetup site is only to let your group members know you plan to attend.*** \nUse code IN15 to claim 15% off your ticket at checkout! \nDynamicsCon hosted by Dynamics User Group is on May 12th-15th\, 2026 in Las Vegas\, Nevada! \nThis event is the ultimate learning and networking opportunity for the Microsoft Dynamics 365\, Dynamics GP\, and Power Platform community! With over 3\,000 attendees\, this event offers 300+ sessions led by more than 250 expert speakers\, including Microsoft MVPs\, seasoned veterans\, and first-time speakers. Attendees can network with 125+ sponsors\, enjoy seamless connections through attendee-to-attendee scanning\, and indulge in complimentary breakfasts\, lunches\, and snack breaks. Plus\, with two community receptions\, DynamicsCon is truly ‘Where community thrives\, and ideas ignite! \nJoin us at DynamicsCon 2026 for an unparalleled educational experience in the vibrant city of Las Vegas! Held at the luxurious Fontainebleau Las Vegas\, this premier venue offers stunning accommodations and impeccable service. Located near the iconic Las Vegas Strip\, you’ll enjoy both cutting-edge learning sessions and easy access to world-class dining\, shopping\, and entertainment. Discover why this dynamic city and elegant venue are the perfect backdrop for an unforgettable conference!
URL:https://dynamicsusergroup.com/event/dynamicscon-2026-12/
LOCATION:Fontainebleau Las Vegas\, 2777 S Las Vegas Blvd\, Las Vegas\, NV\, 89109\, US
CATEGORIES:DUG Meetups
ATTACH;FMTTYPE=image/jpeg:https://dynamicsusergroup.com/wp-content/uploads/2026/03/26858_image_highres_533052044.jpeg
ORGANIZER;CN="Microsoft Dynamics 365 Indiana":MAILTO:meetup-group-surlrzkr-announce@messages.meetup.com
END:VEVENT
BEGIN:VEVENT
DTSTART;TZID=America/Indiana/Indianapolis:20260610T130000
DTEND;TZID=America/Indiana/Indianapolis:20260610T150000
DTSTAMP:20260420T125748
CREATED:20260325T172326Z
LAST-MODIFIED:20260419T172326Z
UID:10001600-1781096400-1781103600@dynamicsusergroup.com
SUMMARY:Indiana D365 User Group June Meeting
DESCRIPTION:Save the Date – Agenda Forthcoming \nYou’re invited to Indiana D365 User Group Meeting June \nWed Jun 10\, 2026 \n2:00 PM—Jun 11\, 4:00 PM (EST) \nhttps://teams.microsoft.com/l/meetup-join/19%3ameeting_YWRkNmQ1NWMtN2E0Mi00ZDU4LThmNzMtMDdlODMwMDNkMGMz%40thread.v2/0?context=%7b%22Tid%22%3a%22b4c9f32e-da17-4ded-9c95-ce9da38f25d9%22%2c%22Oid%22%3a%2267db4a27-1865-4ea7-bb20-a28137a8aa56%22%7d \nTap on the link or paste it in a browser to join.
URL:https://dynamicsusergroup.com/event/indiana-d365-user-group-june-meeting/
LOCATION:Leaf Software Solutions\, 14300 Clay Terrace Blvd.\, Carmel\, IN\, US
CATEGORIES:DUG Meetups
ORGANIZER;CN="Microsoft Dynamics 365 Indiana":MAILTO:meetup-group-surlrzkr-announce@messages.meetup.com
END:VEVENT
END:VCALENDAR