BEGIN:VCALENDAR
VERSION:2.0
PRODID:-//Dynamics User Group - ECPv6.15.12.2//NONSGML v1.0//EN
CALSCALE:GREGORIAN
METHOD:PUBLISH
X-WR-CALNAME:Dynamics User Group
X-ORIGINAL-URL:https://dynamicsusergroup.com
X-WR-CALDESC:Events for Dynamics User Group
REFRESH-INTERVAL;VALUE=DURATION:PT1H
X-Robots-Tag:noindex
X-PUBLISHED-TTL:PT1H
BEGIN:VTIMEZONE
TZID:America/Indiana/Indianapolis
BEGIN:DAYLIGHT
TZOFFSETFROM:-0500
TZOFFSETTO:-0400
TZNAME:EDT
DTSTART:20250309T070000
END:DAYLIGHT
BEGIN:STANDARD
TZOFFSETFROM:-0400
TZOFFSETTO:-0500
TZNAME:EST
DTSTART:20251102T060000
END:STANDARD
BEGIN:DAYLIGHT
TZOFFSETFROM:-0500
TZOFFSETTO:-0400
TZNAME:EDT
DTSTART:20260308T070000
END:DAYLIGHT
BEGIN:STANDARD
TZOFFSETFROM:-0400
TZOFFSETTO:-0500
TZNAME:EST
DTSTART:20261101T060000
END:STANDARD
BEGIN:DAYLIGHT
TZOFFSETFROM:-0500
TZOFFSETTO:-0400
TZNAME:EDT
DTSTART:20270314T070000
END:DAYLIGHT
BEGIN:STANDARD
TZOFFSETFROM:-0400
TZOFFSETTO:-0500
TZNAME:EST
DTSTART:20271107T060000
END:STANDARD
END:VTIMEZONE
BEGIN:VEVENT
DTSTART;TZID=America/Indiana/Indianapolis:20260430T110000
DTEND;TZID=America/Indiana/Indianapolis:20260430T120000
DTSTAMP:20260420T150051
CREATED:20250904T173423Z
LAST-MODIFIED:20260420T173422Z
UID:10001360-1777546800-1777550400@dynamicsusergroup.com
SUMMARY:D365 Manager & Admin Meetup - Apr 2026
DESCRIPTION:9.00am-10.00am PT (US & Canada)\n12.00pm-1.00pm ET (US & Canada)\n5.00pm-6.00pm GMT (UK)\n6.00pm-7.00pm CET (Europe) \nPlease join us for our April 2026 session to dive into planning for Reporting\, BI Options & Fabric across Dynamics 365 – with a practical framework! \nOrganizations using Dynamics 365 and Business Central have several reporting and BI options available\, but many still struggle to build reporting that is scalable\, useful\, and aligned with business decision-making. This session explores the current reporting and BI options across Dynamics\, the limitations of those approaches\, and how Power BI and Microsoft Fabric can expand what organizations are able to do with their data. It will also include a BI demo\, a practical framework for successful BI delivery\, real examples of that framework in action\, and a discussion on the broader organizational impact of getting BI right. \nWe look forward to connecting! \nBest wishes\, \nNancie\, Tanya\, and Vanda \ndynamicsusergroup
URL:https://dynamicsusergroup.com/event/d365-manager-admin-meetup-apr-2026/
LOCATION:Online event
CATEGORIES:DUG Meetups
ATTACH;FMTTYPE=image/jpeg:https://dynamicsusergroup.com/wp-content/uploads/2025/09/22827_image_highres_533617744.jpeg
ORGANIZER;CN="DUG D365 Enterprise Excellence Meetup":MAILTO:meetup-group-hxjhinza-announce@messages.meetup.com
END:VEVENT
BEGIN:VEVENT
DTSTART;TZID=America/Indiana/Indianapolis:20260512T200000
DTEND;TZID=America/Indiana/Indianapolis:20260515T150000
DTSTAMP:20260420T150051
CREATED:20260226T173425Z
LAST-MODIFIED:20260420T173422Z
UID:10001545-1778616000-1778857200@dynamicsusergroup.com
SUMMARY:DynamicsCon 2026
DESCRIPTION:REGISTER TODAY!\n***Only those who have registered through Eventbrite will be permitted entry to the event. RSVPing on the Meetup site is only to let your group members know you plan to attend.*** \nUse code MANAGER15 to claim 15% off your ticket at checkout! \nDynamicsCon hosted by Dynamics User Group is on May 12th-15th\, 2026 in Las Vegas\, Nevada!\nThis event is the ultimate learning and networking opportunity for the Microsoft Dynamics 365\, Dynamics GP\, and Power Platform community! With over 3\,000 attendees\, this event offers 300+ sessions led by more than 250 expert speakers\, including Microsoft MVPs\, seasoned veterans\, and first-time speakers. Attendees can network with 125+ sponsors\, enjoy seamless connections through attendee-to-attendee scanning\, and indulge in complimentary breakfasts\, lunches\, and snack breaks. Plus\, with two community receptions\, DynamicsCon is truly ‘Where community thrives\, and ideas ignite! \nJoin us at DynamicsCon 2026 for an unparalleled educational experience in the vibrant city of Las Vegas! Held at the luxurious Fontainebleau Las Vegas\, this premier venue offers stunning accommodations and impeccable service. Located near the iconic Las Vegas Strip\, you’ll enjoy both cutting-edge learning sessions and easy access to world-class dining\, shopping\, and entertainment. Discover why this dynamic city and elegant venue are the perfect backdrop for an unforgettable conference!
URL:https://dynamicsusergroup.com/event/dynamicscon-2026-4/
LOCATION:Fontainebleau Las Vegas\, 2777 S Las Vegas Blvd\, Las Vegas\, NV\, 89109\, US
CATEGORIES:DUG Meetups
ATTACH;FMTTYPE=image/jpeg:https://dynamicsusergroup.com/wp-content/uploads/2026/02/26578_image_highres_532915474.jpeg
ORGANIZER;CN="DUG D365 Enterprise Excellence Meetup":MAILTO:meetup-group-hxjhinza-announce@messages.meetup.com
END:VEVENT
BEGIN:VEVENT
DTSTART;TZID=America/Indiana/Indianapolis:20260521T110000
DTEND;TZID=America/Indiana/Indianapolis:20260521T120000
DTSTAMP:20260420T150051
CREATED:20250904T173423Z
LAST-MODIFIED:20260420T173422Z
UID:10001361-1779361200-1779364800@dynamicsusergroup.com
SUMMARY:D365 Manager & Admin Meetup - May 2026
DESCRIPTION:9.00am-10.00am PT (US & Canada)\n12.00pm-1.00pm ET (US & Canada)\n5.00pm-6.00pm GMT (UK)\n6.00pm-7.00pm CET (Europe) \nPlease join us for our May 2026 session where Nathan Bensch\, Enterprise Technology Officer\, enVista will be discussing Commanding Copilot: From Chaos to Control in M365 Agent Governance & Spend \nIn this session\, attendees will learn how to move from Copilot chaos to confident control by treating AI like a mission-critical system\, not an experiment. Using a practical flight deck framework\, the session shows how Microsoft 365’s existing tools can be used to govern Copilot access\, protect enterprise data\, manage agent lifecycles\, and control AI spend without slowing innovation. The focus is not theory or fear\, but real-world governance that enables safe adoption\, clear accountability\, and predictable value as AI becomes embedded across the organization.\nWhat You Can Expect\nA practical governance framework you already own\nLearn how Entra\, Purview\, the Microsoft 365 Admin Center\, Viva Insights\, and Agent 365 work together as a unified Copilot control system.\nClear strategies to reduce oversharing and Shadow AI risk\nSee how restricted search\, data governance\, and agent controls stabilize exposure while permissions and processes mature.\nActionable guidance for managing agents and AI spend\nUnderstand agent lifecycle governance\, monitoring adoption\, and treating Copilot credits like fuel to prevent runaway costs and sprawl.\nThis session is designed for IT leaders\, governance professionals\, and technology strategists focused on deploying Copilot with strong organizational controls\, clear accountability\, and disciplined budget oversight. \nWe look forward to connecting! \nBest wishes\, \nNancie\, Tanya\, and Vanda \ndynamicsusergroup
URL:https://dynamicsusergroup.com/event/d365-manager-admin-meetup-may-2026/
LOCATION:Online event
CATEGORIES:DUG Meetups
ORGANIZER;CN="DUG D365 Enterprise Excellence Meetup":MAILTO:meetup-group-hxjhinza-announce@messages.meetup.com
END:VEVENT
BEGIN:VEVENT
DTSTART;TZID=America/Indiana/Indianapolis:20260611T110000
DTEND;TZID=America/Indiana/Indianapolis:20260611T120000
DTSTAMP:20260420T150051
CREATED:20260211T173422Z
LAST-MODIFIED:20260420T173422Z
UID:10001526-1781175600-1781179200@dynamicsusergroup.com
SUMMARY:D365 Manager & Admin Meetup - June 2026
DESCRIPTION:9.00am-10.00am PT (US & Canada)\n12.00pm-1.00pm ET (US & Canada)\n5.00pm-6.00pm GMT (UK)\n6.00pm-7.00pm CET (Europe) \nPlease join us for our June 2026 session.\nDetails to follow. \nWe look forward to connecting!\nBest wishes\,\nNancie\, Tanya\, and Vanda \ndynamicsusergroup
URL:https://dynamicsusergroup.com/event/d365-manager-admin-meetup-june-2026/
LOCATION:Online event
CATEGORIES:DUG Meetups
ORGANIZER;CN="DUG D365 Enterprise Excellence Meetup":MAILTO:meetup-group-hxjhinza-announce@messages.meetup.com
END:VEVENT
BEGIN:VEVENT
DTSTART;TZID=America/Indiana/Indianapolis:20260917T110000
DTEND;TZID=America/Indiana/Indianapolis:20260917T120000
DTSTAMP:20260420T150051
CREATED:20260211T173423Z
LAST-MODIFIED:20260420T173422Z
UID:10001527-1789642800-1789646400@dynamicsusergroup.com
SUMMARY:D365 Manager & Admin Meetup - Sep 2026
DESCRIPTION:9.00am-10.00am PT (US & Canada)\n12.00pm-1.00pm ET (US & Canada)\n5.00pm-6.00pm GMT (UK)\n6.00pm-7.00pm CET (Europe) \nPlease join us for our September 2026 session.\nDetails to follow. \nWe look forward to connecting!\nBest wishes\,\nNancie\, Tanya\, and Vanda \ndynamicsusergroup
URL:https://dynamicsusergroup.com/event/d365-manager-admin-meetup-sep-2026/
LOCATION:Online event
CATEGORIES:DUG Meetups
ORGANIZER;CN="DUG D365 Enterprise Excellence Meetup":MAILTO:meetup-group-hxjhinza-announce@messages.meetup.com
END:VEVENT
BEGIN:VEVENT
DTSTART;TZID=America/Indiana/Indianapolis:20261105T120000
DTEND;TZID=America/Indiana/Indianapolis:20261105T130000
DTSTAMP:20260420T150051
CREATED:20260211T173423Z
LAST-MODIFIED:20260420T173422Z
UID:10001528-1793880000-1793883600@dynamicsusergroup.com
SUMMARY:D365 Manager & Admin Meetup - Nov 2026
DESCRIPTION:9.00am-10.00am PT (US & Canada)\n12.00pm-1.00pm ET (US & Canada)\n5.00pm-6.00pm GMT (UK)\n6.00pm-7.00pm CET (Europe) \nPlease join us for our November 2026 session.\nDetails to follow. \nWe look forward to connecting!\nBest wishes\,\nNancie\, Tanya\, and Vanda \ndynamicsusergroup
URL:https://dynamicsusergroup.com/event/d365-manager-admin-meetup-nov-2026/
LOCATION:Online event
CATEGORIES:DUG Meetups
ORGANIZER;CN="DUG D365 Enterprise Excellence Meetup":MAILTO:meetup-group-hxjhinza-announce@messages.meetup.com
END:VEVENT
BEGIN:VEVENT
DTSTART;TZID=America/Indiana/Indianapolis:20261203T120000
DTEND;TZID=America/Indiana/Indianapolis:20261203T130000
DTSTAMP:20260420T150051
CREATED:20260211T173423Z
LAST-MODIFIED:20260420T173422Z
UID:10001529-1796299200-1796302800@dynamicsusergroup.com
SUMMARY:D365 Manager & Admin Meetup - Dec 2026
DESCRIPTION:9.00am-10.00am PT (US & Canada)\n12.00pm-1.00pm ET (US & Canada)\n5.00pm-6.00pm GMT (UK)\n6.00pm-7.00pm CET (Europe) \nPlease join us for our final session of 2026!\nDetails to follow. \nWe look forward to connecting!\nBest wishes\,\nNancie\, Tanya\, and Vanda \ndynamicsusergroup
URL:https://dynamicsusergroup.com/event/d365-manager-admin-meetup-dec-2026/
LOCATION:Online event
CATEGORIES:DUG Meetups
ORGANIZER;CN="DUG D365 Enterprise Excellence Meetup":MAILTO:meetup-group-hxjhinza-announce@messages.meetup.com
END:VEVENT
END:VCALENDAR