BEGIN:VCALENDAR
VERSION:2.0
PRODID:-//Dynamics User Group - ECPv6.15.12.2//NONSGML v1.0//EN
CALSCALE:GREGORIAN
METHOD:PUBLISH
X-WR-CALNAME:Dynamics User Group
X-ORIGINAL-URL:https://dynamicsusergroup.com
X-WR-CALDESC:Events for Dynamics User Group
REFRESH-INTERVAL;VALUE=DURATION:PT1H
X-Robots-Tag:noindex
X-PUBLISHED-TTL:PT1H
BEGIN:VTIMEZONE
TZID:America/Indiana/Indianapolis
BEGIN:DAYLIGHT
TZOFFSETFROM:-0500
TZOFFSETTO:-0400
TZNAME:EDT
DTSTART:20230312T070000
END:DAYLIGHT
BEGIN:STANDARD
TZOFFSETFROM:-0400
TZOFFSETTO:-0500
TZNAME:EST
DTSTART:20231105T060000
END:STANDARD
BEGIN:DAYLIGHT
TZOFFSETFROM:-0500
TZOFFSETTO:-0400
TZNAME:EDT
DTSTART:20240310T070000
END:DAYLIGHT
BEGIN:STANDARD
TZOFFSETFROM:-0400
TZOFFSETTO:-0500
TZNAME:EST
DTSTART:20241103T060000
END:STANDARD
BEGIN:DAYLIGHT
TZOFFSETFROM:-0500
TZOFFSETTO:-0400
TZNAME:EDT
DTSTART:20250309T070000
END:DAYLIGHT
BEGIN:STANDARD
TZOFFSETFROM:-0400
TZOFFSETTO:-0500
TZNAME:EST
DTSTART:20251102T060000
END:STANDARD
BEGIN:DAYLIGHT
TZOFFSETFROM:-0500
TZOFFSETTO:-0400
TZNAME:EDT
DTSTART:20260308T070000
END:DAYLIGHT
BEGIN:STANDARD
TZOFFSETFROM:-0400
TZOFFSETTO:-0500
TZNAME:EST
DTSTART:20261101T060000
END:STANDARD
END:VTIMEZONE
BEGIN:VEVENT
DTSTART;TZID=America/Indiana/Indianapolis:20251009T110000
DTEND;TZID=America/Indiana/Indianapolis:20251009T113000
DTSTAMP:20260420T215541
CREATED:20250922T132634Z
LAST-MODIFIED:20250923T121140Z
UID:10001387-1760007600-1760009400@dynamicsusergroup.com
SUMMARY:WEBINAR - Stop guessing. Start getting paid: Take control of your receivables by Chaser
DESCRIPTION:REGISTER HERE \nTired of second-guessing when invoices will be paid? \nFor many finance teams\, accounts receivable feels uncertain. Will the customer respond to this reminder? Which invoices are at risk? How much cash will actually be collected this month? Without the right visibility\, processes\, and tools\, it becomes difficult to answer with confidence. \nReceivables should not be about guesswork. They should be predictable\, trackable\, and firmly under control. \nIn this live webinar\, Chaser team will share strategies and tools that help finance teams move from uncertainty to confidence. Learn how to take control of receivables\, reduce late payment surprises\, and create a more reliable cash flow. \nWhether you manage receivables as a credit controller\, finance manager\, or business owner\, this session will show you how to make collections more proactive\, efficient\, and consistent. Stop leaving receivables to chance. Gain the clarity and control needed to get paid on time. \nYou’ll learn: \n\nHow to spot at-risk invoices early and reduce payment delays\nReminder strategies that encourage faster responses while protecting relationships\nTools and integrations that give complete oversight of payment status\nMetrics and reports that improve forecasting accuracy\nPractical steps to reduce manual chasing and free up time for higher-value tasks\n\n  \n  \n  \n 
URL:https://dynamicsusergroup.com/event/webinar-stop-guessing-start-getting-paid-take-control-of-your-receivables-by-chaser/
LOCATION:Online event
CATEGORIES:Team-Up Partner Event
ATTACH;FMTTYPE=image/png:https://dynamicsusergroup.com/wp-content/uploads/2025/09/WBN-202510-Stop-guessing_Start-getting-paid_US_BlogHeader.png
END:VEVENT
BEGIN:VEVENT
DTSTART;TZID=America/Indiana/Indianapolis:20250716T160000
DTEND;TZID=America/Indiana/Indianapolis:20250716T163000
DTSTAMP:20260420T215541
CREATED:20250711T184410Z
LAST-MODIFIED:20250711T193426Z
UID:10001258-1752681600-1752683400@dynamicsusergroup.com
SUMMARY:WEBINAR - 7 tips and tools for full visibility: Keep track of your accounts receivable by Chaser
DESCRIPTION:REGISTER HERE \nStruggling to get a clear picture of your accounts receivable? \nYou’re not alone. Incomplete visibility is one of the most common and costly challenges finance teams face. Without the right processes and tools\, missed follow-ups\, duplicate efforts\, and delayed payments quickly become the norm. \nBut visibility isn’t just about chasing unpaid invoices. It’s about having the confidence and clarity to manage your receivables proactively\, build stronger client relationships\, and make smarter financial decisions. \nIn this webinar\, Chaser speakers will share 7 practical tips and tools to help you stay fully on top of your accounts receivable. From shared inbox strategies to performance KPIs and smart software integrations\, you’ll learn actionable ways to gain full transparency across your AR processes. \nWhether you’re a credit controller\, finance manager\, or business owner\, this session will equip you with the insights you need to streamline collaboration\, reduce manual workload\, and improve how you manage receivables. \n\nHow to track the right data at every stage of your accounts receivable process.\nSmart inbox and logging practices for better team visibility.\nTools and KPIs to measure performance and stay proactive.\nHow to use software integrations to improve efficiency.\nWays to enhance client communication while reducing risk.\n\n  \n  \n 
URL:https://dynamicsusergroup.com/event/webinar-7-tips-and-tools-for-full-visibility-keep-track-of-your-accounts-receivable-by-chaser/
LOCATION:Online event
CATEGORIES:Team-Up Partner Event
ATTACH;FMTTYPE=image/png:https://dynamicsusergroup.com/wp-content/uploads/2025/07/WBN-202507-7-tips-and-tool-for-full-visibility.png
END:VEVENT
BEGIN:VEVENT
DTSTART;TZID=America/Indiana/Indianapolis:20250327T110000
DTEND;TZID=America/Indiana/Indianapolis:20250327T120000
DTSTAMP:20260420T215541
CREATED:20250204T141556Z
LAST-MODIFIED:20250204T141639Z
UID:10000855-1743073200-1743076800@dynamicsusergroup.com
SUMMARY:Team-Up Partner Showcase: Chaser - 7 Strategies You Can Implement In Business Central Today To Minimize Late Invoice Payments
DESCRIPTION:REGISTER HERE \nLate payments are a serious challenge for businesses\, impacting cash flow\, supplier relationships\, and growth potential. In fact\, research shows that businesses in North America are regularly waiting 50+ days for payments (Allianz)\, with the average company owed $300\,000 in late invoices (Intuit). \nJoin this practical\, insights-driven session tailored for Microsoft Dynamics 365 users. Discover how to implement strategies that prevent late payments before they even happen\, how to better-track your debtors and invoices\, and also see how you can leverage Business Central’s powerful inbuilt tools and integrations to strengthen your accounts receivable process. \nYour webinar will cover: \n\nProven strategies: Discover seven tried and tested strategies that helped businesses like yours prevent late payments\nExpert guidance: Learn from industry experts who will provide practical advice\, answer your burning questions\, and guide you toward effective credit management.\nReal-life case studies: See how other businesses have succeeded after implementing these strategies and speaking with Chaser’s credit control experts.\nFree resources: Receive free resources and templates for preventing late payments.\nActionable takeaways: Walk away with a toolbox of practical steps and immediate solutions for preventing late payments.\n\n💡Businesses that take a proactive approach to collections and leverage automation get paid an average of 38 days faster. Don’t miss this opportunity to equip your team with actionable strategies to reduce manual work\, improve cash flow and decrease overdue invoices! \n🎥 Can’t make it live? Register now\, and we’ll send you the recording! \n  \n  \n 
URL:https://dynamicsusergroup.com/event/team-up-partner-showcase-chaser-7-strategies-you-can-implement-in-business-central-today-to-minimize-late-invoice-payments/
LOCATION:Online event
CATEGORIES:Team-Up Partner Event
ATTACH;FMTTYPE=image/png:https://dynamicsusergroup.com/wp-content/uploads/2025/02/Chaser-Team-Up-Webinar-DUG-Listing.png
END:VEVENT
BEGIN:VEVENT
DTSTART;TZID=America/Indiana/Indianapolis:20250312T150000
DTEND;TZID=America/Indiana/Indianapolis:20250312T160000
DTSTAMP:20260420T215541
CREATED:20241101T135003Z
LAST-MODIFIED:20250110T150217Z
UID:10000679-1741791600-1741795200@dynamicsusergroup.com
SUMMARY:WEBINAR - Bad payers or bad processes? 7 strategies to prevent late invoice payments by Chaser
DESCRIPTION:REGISTER HERE \nAre your customers paying their invoices late? \nYou’re not alone. 53% of all invoices issued by businesses are paid late by an average of 26 days (Xero). \nWhilst late payments can leave many finance teams feeling frustrated at their customers for being ‘bad payers’\, others are implementing proactive strategies to prevent late payments before they even happen. \nYour ability to act proactively\, your preexisting internal processes\, and your credit management policy play a huge role in how often customers will pay you late\, and how late payments will be made. \nYou have the power to drastically reduce late payments for your business by taking a few simple but proactive steps in your credit management process. \nSee seven proven strategies that are helping businesses to stop late payments in their tracks\, reduce days sales outstanding\, and improve cash flow. \nYour webinar will cover: \n\nProven strategies: Discover seven tried and tested strategies that helped businesses like yours prevent late payments\nExpert guidance: Learn from industry experts who will provide practical advice\, answer your burning questions\, and guide you toward effective credit management.\nReal-life case studies: See how other businesses have succeeded after implementing these strategies and speaking with Chaser’s credit control experts.\nFree resources: Receive free resources and templates for preventing late payments.\nActionable takeaways: Walk away with a toolbox of practical steps and immediate solutions for preventing late payments.\n\n  \n 
URL:https://dynamicsusergroup.com/event/prevent-late-invoice-payments-with-chaser/
LOCATION:Online event
CATEGORIES:Team-Up Partner Event
ATTACH;FMTTYPE=image/png:https://dynamicsusergroup.com/wp-content/uploads/2024/11/DUG-proactiveness-pays-webinar.png
END:VEVENT
BEGIN:VEVENT
DTSTART;TZID=America/Indiana/Indianapolis:20240529T100000
DTEND;TZID=America/Indiana/Indianapolis:20240529T110000
DTSTAMP:20260420T215541
CREATED:20240423T131927Z
LAST-MODIFIED:20240423T132057Z
UID:10000386-1716976800-1716980400@dynamicsusergroup.com
SUMMARY:Chaser - WEBINAR How to eliminate manual work when chasing late payments with Chaser and Business Central
DESCRIPTION:REGISTER HERE \nTired of manual work in your debtor management process? You can now chase invoices and reduce late payments automatically. \nBusiness Central users can access a new\, seamless integration with Chaser’s accounts receivable software\, making it even easier to eliminate manual work when chasing late payments. \nHear from expert speakers including Alfredo Iorio\, an accomplished Business Central Trainer and Consultant who has a track record of helping businesses worldwide optimize their Business Central usage. And Charlotte Gill\, accounts receivable expert and Head of Product at Chaser\, the leading debtor management software provider. \nYou will leave this webinar understanding how to eliminate manual work in your debtor management process\, and reduce late payments from day one.
URL:https://dynamicsusergroup.com/event/chaser-webinar-how-to-eliminate-manual-work-when-chasing-late-payments-with-chaser-and-business-central/
LOCATION:Online event
CATEGORIES:Team-Up Partner Event
ATTACH;FMTTYPE=image/png:https://dynamicsusergroup.com/wp-content/uploads/2024/04/PM-202404-Microsoft-Dynamics-integration-Campaign-Chaser.png
END:VEVENT
END:VCALENDAR