BEGIN:VCALENDAR
VERSION:2.0
PRODID:-//Dynamics User Group - ECPv6.15.12.2//NONSGML v1.0//EN
CALSCALE:GREGORIAN
METHOD:PUBLISH
X-ORIGINAL-URL:https://dynamicsusergroup.com
X-WR-CALDESC:Events for Dynamics User Group
REFRESH-INTERVAL;VALUE=DURATION:PT1H
X-Robots-Tag:noindex
X-PUBLISHED-TTL:PT1H
BEGIN:VTIMEZONE
TZID:America/Indiana/Indianapolis
BEGIN:DAYLIGHT
TZOFFSETFROM:-0500
TZOFFSETTO:-0400
TZNAME:EDT
DTSTART:20240310T070000
END:DAYLIGHT
BEGIN:STANDARD
TZOFFSETFROM:-0400
TZOFFSETTO:-0500
TZNAME:EST
DTSTART:20241103T060000
END:STANDARD
BEGIN:DAYLIGHT
TZOFFSETFROM:-0500
TZOFFSETTO:-0400
TZNAME:EDT
DTSTART:20250309T070000
END:DAYLIGHT
BEGIN:STANDARD
TZOFFSETFROM:-0400
TZOFFSETTO:-0500
TZNAME:EST
DTSTART:20251102T060000
END:STANDARD
BEGIN:DAYLIGHT
TZOFFSETFROM:-0500
TZOFFSETTO:-0400
TZNAME:EDT
DTSTART:20260308T070000
END:DAYLIGHT
BEGIN:STANDARD
TZOFFSETFROM:-0400
TZOFFSETTO:-0500
TZNAME:EST
DTSTART:20261101T060000
END:STANDARD
END:VTIMEZONE
BEGIN:VEVENT
DTSTART;TZID=America/Indiana/Indianapolis:20250717T120000
DTEND;TZID=America/Indiana/Indianapolis:20250717T130000
DTSTAMP:20260421T124618
CREATED:20250617T181117Z
LAST-MODIFIED:20250625T211506Z
UID:10001162-1752753600-1752757200@dynamicsusergroup.com
SUMMARY:Team-Up Partner Showcase | Supercharge Your Inventory Management: AI-Powered Solutions for Dynamics Users
DESCRIPTION:REGISTER HERE \nJoin this comprehensive one-hour session to discover how Netstock’s AI-driven platform can revolutionize your inventory management beyond what’s possible with Dynamics alone. Learn how to eliminate costly stockouts\, reduce excess inventory\, and optimize your cash flow using intelligent automation and predictive analytics that seamlessly extend your existing system capabilities. \nThrough live demonstrations and practical examples\, you’ll see how AI can transform your daily inventory decisions from reactive to proactive. Walk away with actionable strategies to implement automated ordering\, predictive forecasting\, and data-driven inventory optimization that will immediately impact your bottom line and operational efficiency. \nKey Learning Outcomes: \n● Automate your ordering processes with AI-driven recommendations for improved accuracy \n● Prevent costly stockouts using predictive forecasting and intelligent alerts \n● Reduce excess inventory and free up working capital through optimized demand planning \n● Transform your decision-making with real-time AI insights and advanced analytics \n  \n  \n 
URL:https://dynamicsusergroup.com/event/team-up-partner-showcase-supercharge-your-inventory-management-ai-powered-solutions-for-dynamics-users/
LOCATION:Online event
CATEGORIES:Team-Up Partner Event
ATTACH;FMTTYPE=image/png:https://dynamicsusergroup.com/wp-content/uploads/2025/06/Netstock-Team-Up-Webinar-DUG-Listing.png
END:VEVENT
BEGIN:VEVENT
DTSTART;TZID=America/Indiana/Indianapolis:20250731T110000
DTEND;TZID=America/Indiana/Indianapolis:20250731T120000
DTSTAMP:20260421T124618
CREATED:20250728T182755Z
LAST-MODIFIED:20250728T182755Z
UID:10001271-1753959600-1753963200@dynamicsusergroup.com
SUMMARY:WEBINAR - Leapwork | Microsoft Tech Talk: Evolving Regression Testing - From RSAT to Next- Gen Test Automation
DESCRIPTION:REGISTER HERE\nWe are excited to announce that we are joining Microsoft for an in-depth TechTalk on July 31st. This will focus on how to evolve from RSAT-focused testing to scalable\, end-to-end automation across your entire tech stack\, and will be presented by Microsoft\, the Azure Circular Teams\, and Microsoft Partners Leapwork and Itineris. \nWhat will you learn? \n– Best practices for efficient regression testing at scale and faster release cycles for Dynamics 365 and Microsoft’s broader ecosystem. \n– Discover how to broaden test coverage for validating business-critical workflows across integrated Microsoft apps\, including AI apps like Microsoft Copilot. \n– See how to implement fast and smooth transitions using an RSAT migration tool. \nTechTalk Presenters:\n– Swamy Narayana (VP Customer Experience Programs – Microsoft) \n– Kenny Saelen (Sr. R&D Solution Architect – Microsoft) \n– Daren Turner (Principal FastTrack Technical Solution Architect – Microsoft) \n– Alexandra C. (Manager\, Channel Solutions Engineering – Leapwork) \n– Prinkal Vaid (Sr. Software Engineer – Azure Circular Team\, Microsoft) \n– Jozua Velle (Manager\, Center of Excellence – Itineris) \n  \n  \n  \n 
URL:https://dynamicsusergroup.com/event/webinar-leapwork-microsoft-tech-talk-evolving-regression-testing-from-rsat-to-next-gen-test-automation/
LOCATION:Online event
CATEGORIES:Team-Up Partner Event
ATTACH;FMTTYPE=image/png:https://dynamicsusergroup.com/wp-content/uploads/2025/07/GetAttachmentThumbnail.png
END:VEVENT
END:VCALENDAR