BEGIN:VCALENDAR
VERSION:2.0
PRODID:-//Dynamics User Group - ECPv6.15.12.2//NONSGML v1.0//EN
CALSCALE:GREGORIAN
METHOD:PUBLISH
X-WR-CALNAME:Dynamics User Group
X-ORIGINAL-URL:https://dynamicsusergroup.com
X-WR-CALDESC:Events for Dynamics User Group
REFRESH-INTERVAL;VALUE=DURATION:PT1H
X-Robots-Tag:noindex
X-PUBLISHED-TTL:PT1H
BEGIN:VTIMEZONE
TZID:America/Indiana/Indianapolis
BEGIN:DAYLIGHT
TZOFFSETFROM:-0500
TZOFFSETTO:-0400
TZNAME:EDT
DTSTART:20240310T070000
END:DAYLIGHT
BEGIN:STANDARD
TZOFFSETFROM:-0400
TZOFFSETTO:-0500
TZNAME:EST
DTSTART:20241103T060000
END:STANDARD
BEGIN:DAYLIGHT
TZOFFSETFROM:-0500
TZOFFSETTO:-0400
TZNAME:EDT
DTSTART:20250309T070000
END:DAYLIGHT
BEGIN:STANDARD
TZOFFSETFROM:-0400
TZOFFSETTO:-0500
TZNAME:EST
DTSTART:20251102T060000
END:STANDARD
BEGIN:DAYLIGHT
TZOFFSETFROM:-0500
TZOFFSETTO:-0400
TZNAME:EDT
DTSTART:20260308T070000
END:DAYLIGHT
BEGIN:STANDARD
TZOFFSETFROM:-0400
TZOFFSETTO:-0500
TZNAME:EST
DTSTART:20261101T060000
END:STANDARD
END:VTIMEZONE
BEGIN:VEVENT
DTSTART;TZID=America/Indiana/Indianapolis:20251105T093000
DTEND;TZID=America/Indiana/Indianapolis:20251105T163000
DTSTAMP:20260422T184302
CREATED:20251104T171549Z
LAST-MODIFIED:20251104T172227Z
UID:10001394-1762335000-1762360200@dynamicsusergroup.com
SUMMARY:Modern Manufacturing Technology Day
DESCRIPTION:In the dynamic world of manufacturing\, professionals face numerous challenges that require innovative solutions. From streamlining operations to optimizing supply chains\, staying at the forefront of technology and best practices is essential. \nDuring Modern Manufacturing Technology Day\, you’ll have the opportunity to connect with fellow manufacturing professionals and learn from industry leaders. Our sessions bring together thought leadership on digital transformation and technology-driven operations with practical insights into Microsoft Dynamics\, Copilot\, customer engagement\, and data-driven strategies. You’ll walk away with knowledge and tools to strengthen operations and guide smarter business decisions. Secure your spot today for an educational experience that will shape the future of your manufacturing processes. \nREGISTER HERE
URL:https://dynamicsusergroup.com/event/modern-manufacturing-technology-day/
CATEGORIES:Team-Up Partner Event
ATTACH;FMTTYPE=image/png:https://dynamicsusergroup.com/wp-content/uploads/2025/11/Stoneridge-Software-Event-1.png
LOCATION:https://dynamicsusergroup.com/event/modern-manufacturing-technology-day/
END:VEVENT
BEGIN:VEVENT
DTSTART;TZID=America/Indiana/Indianapolis:20251204T140000
DTEND;TZID=America/Indiana/Indianapolis:20251204T150000
DTSTAMP:20260422T184302
CREATED:20251030T182622Z
LAST-MODIFIED:20251204T160156Z
UID:10001393-1764856800-1764860400@dynamicsusergroup.com
SUMMARY:WEBINAR - From Standard to Smarter: The Real ROI of Microsoft 365 Copilot
DESCRIPTION:REGISTER HERE\nSee how Microsoft 365 Copilot can help you and your team work smarter across Outlook\, Teams\, PowerPoint\, and Excel—with real use cases\, ROI insights\, and demos.\nIf you’ve been hearing about Microsoft 365 Copilot and wondering if it’s just Clippy 2.0\, you’re not alone. \nThe difference? Copilot quietly works inside the tools you already use—Outlook\, Teams\, PowerPoint\, and Excel—helping you write\, summarize\, analyze\, and present faster without ever leaving your workflow. \nWhat You’ll Walk Away With\n\nReal-world use cases and live demos across Microsoft 365\nTips to evaluate ROI and know if Copilot is right for your team\nExamples from businesses already saving hours every week\nAnswers to your questions—from rollout to licensing and adoption\n\nYou’ll see Copilot in action across Microsoft 365 and hear how organizations are finding real ROI through everyday use cases.\nYou won’t want to miss it. \nSpecial Offer\nExclusive for webinar registrants: get one month of Microsoft 365 Copilot free when you purchase a 12-month license.\nTry it\, track your team’s results\, and see the ROI firsthand. \n(Details and redemption instructions will be shared during the webinar.) \nWho Should Attend\n\nMicrosoft 365 users who want to get more from the tools they already have\nTeams frustrated by manual follow-ups\, endless meetings\, or wasted time searching for information\nAnyone curious about real-world\, native AI in action\nBusiness and IT leaders evaluating Copilot licensing
URL:https://dynamicsusergroup.com/event/webinar-from-standard-to-smarter-the-real-roi-of-microsoft-365-copilot/
LOCATION:Online event
CATEGORIES:Team-Up Partner Event
ATTACH;FMTTYPE=image/png:https://dynamicsusergroup.com/wp-content/uploads/2025/10/From-Standard-to-Smarter-800x406-1.png
END:VEVENT
BEGIN:VEVENT
DTSTART;TZID=America/Indiana/Indianapolis:20251217T100000
DTEND;TZID=America/Indiana/Indianapolis:20251217T110000
DTSTAMP:20260422T184302
CREATED:20251111T145253Z
LAST-MODIFIED:20251208T010033Z
UID:10001395-1765965600-1765969200@dynamicsusergroup.com
SUMMARY:WEBINAR - Test at the Speed of Innovation: Accelerate AI-Powered Modernization
DESCRIPTION:REGISTER HERE \nAI is reshaping how enterprise apps are built but testing is often stuck in the past. Manual and semi-automated approaches can’t keep pace with weekly release cycles\, Copilot rollouts\, or sprawling Dynamics 365 environments. The result? Delays\, risk\, and frustrated teams. \nJoin this session to learn how business and IT leaders are using visual test automation to modernize their QA strategy\, without writing a single line of code. \nDiscover how organizations reduce test execution times by up to 98%\, empower business users to automate critical tests\, and accelerate time to value across ERP\, CRM\, and custom apps. See how teams expand test coverage across Microsoft’s ecosystem\, including AI apps like Copilot\, adopt best practices for regression testing at scale\, and smoothly transition from RSAT with an easy migration tool for Dynamics 365. If your team is testing less than they would like because of time\, tools\, or only relying on technical talent — this session is for you. \nLearning Objective 1 \nIdentify the business risks of manual and script-heavy testing in complex\, fast-moving Dynamics 365 and AI-driven environments. \nLearning Objective 2 \nLearn how to scale test automation across apps\, teams\, and environments without adding developer burden or compromising quality. \nLearning Objective 3 \nDiscover practical strategies to cut testing cycles by 75–98% and drive rapid time-to-value with reusable\, maintainable automation flows. \n 
URL:https://dynamicsusergroup.com/event/webinar-test-at-the-speed-of-innovation-accelerate-ai-powered-modernization/
LOCATION:Online event
CATEGORIES:Team-Up Partner Event
ATTACH;FMTTYPE=image/webp:https://dynamicsusergroup.com/wp-content/uploads/2025/11/accelerate-modernization-webinar-thumb-v1.1.webp
END:VEVENT
END:VCALENDAR