BEGIN:VCALENDAR
VERSION:2.0
PRODID:-//Dynamics User Group - ECPv6.15.12.2//NONSGML v1.0//EN
CALSCALE:GREGORIAN
METHOD:PUBLISH
X-ORIGINAL-URL:https://dynamicsusergroup.com
X-WR-CALDESC:Events for Dynamics User Group
REFRESH-INTERVAL;VALUE=DURATION:PT1H
X-Robots-Tag:noindex
X-PUBLISHED-TTL:PT1H
BEGIN:VTIMEZONE
TZID:America/Indiana/Indianapolis
BEGIN:DAYLIGHT
TZOFFSETFROM:-0500
TZOFFSETTO:-0400
TZNAME:EDT
DTSTART:20240310T070000
END:DAYLIGHT
BEGIN:STANDARD
TZOFFSETFROM:-0400
TZOFFSETTO:-0500
TZNAME:EST
DTSTART:20241103T060000
END:STANDARD
BEGIN:DAYLIGHT
TZOFFSETFROM:-0500
TZOFFSETTO:-0400
TZNAME:EDT
DTSTART:20250309T070000
END:DAYLIGHT
BEGIN:STANDARD
TZOFFSETFROM:-0400
TZOFFSETTO:-0500
TZNAME:EST
DTSTART:20251102T060000
END:STANDARD
BEGIN:DAYLIGHT
TZOFFSETFROM:-0500
TZOFFSETTO:-0400
TZNAME:EDT
DTSTART:20260308T070000
END:DAYLIGHT
BEGIN:STANDARD
TZOFFSETFROM:-0400
TZOFFSETTO:-0500
TZNAME:EST
DTSTART:20261101T060000
END:STANDARD
END:VTIMEZONE
BEGIN:VEVENT
DTSTART;TZID=America/Indiana/Indianapolis:20250408T140000
DTEND;TZID=America/Indiana/Indianapolis:20250408T150000
DTSTAMP:20260421T205414
CREATED:20250314T172536Z
LAST-MODIFIED:20250314T191242Z
UID:10000924-1744120800-1744124400@dynamicsusergroup.com
SUMMARY:WEBINAR - AP Fraud on the Rise: How to Stay Ahead in 2025 by Yooz
DESCRIPTION:REGISTER HERE \nFraud is hitting businesses harder than ever—and it’s getting smarter. If you’re wondering how to stay ahead of fraudsters and protect your organization\, you’re not alone. \nJoin us for an exclusive\, discussion with Yooz CFO\, John Gronen\, and CSO\, Cody Manning\, as we dive into: \n\nThe rise in fraud and what’s fueling it\nThe top scams and schemes targeting businesses right now\nWhy detecting fraud is harder than ever (and what to do about it)\nHow AI is changing the game in fraud prevention—both for businesses and fraudsters\n\nFirsthand experiences and discussions are crucial in understanding how fraud is impacting the current business landscape. Don’t wait until fraud hits your business—get the insights you need to stay ahead! \nWhat You’ll Learn:\n\n\nKey factors driving the increase in fraudulent activity\n\n\nThe top tactics fraudsters are using to target businesses today\n\n\nWhy identifying fraud is more difficult than ever and strategies to stay ahead\n\n\nHow artificial intelligence is shaping the future for both businesses and fraudsters\n\n\n  \n  \n  \n 
URL:https://dynamicsusergroup.com/event/webinar-ap-fraud-on-the-rise-how-to-stay-ahead-in-2025-by-yooz/
LOCATION:Online event
CATEGORIES:Team-Up Partner Event
ATTACH;FMTTYPE=image/jpeg:https://dynamicsusergroup.com/wp-content/uploads/2025/03/Yooz-Webinar-2025-03-11-John-Cody-1920x1080-1.jpg
END:VEVENT
BEGIN:VEVENT
DTSTART;TZID=America/Indiana/Indianapolis:20250423T093000
DTEND;TZID=America/Indiana/Indianapolis:20250423T155500
DTSTAMP:20260421T205414
CREATED:20250314T172918Z
LAST-MODIFIED:20250314T172918Z
UID:10000925-1745400600-1745423700@dynamicsusergroup.com
SUMMARY:Stoneridge Connect Community Conference
DESCRIPTION:REGISTER HERE \nEnjoy your Work: Spark Productivity\, Collaboration\,and Success with Technology \nJoin us online for the Stoneridge Connect Community Conference! \nStoneridge Connect features sessions for every member of the team – from executive professionals to users across each department. Breakout sessions are developed to help provide vision and strategy through technology and empower users to get the most from your current Microsoft Dynamics solutions. \nAll sessions are designed to be impactful with actionable take-aways. Gain a better understanding of how to not only capitalize on your current software system\, but also utilize the latest in technology to innovate your business. \nRegistration Site  \n 
URL:https://dynamicsusergroup.com/event/stoneridge-connect-community-conference/
LOCATION:Online event
CATEGORIES:Team-Up Partner Event
ATTACH;FMTTYPE=image/png:https://dynamicsusergroup.com/wp-content/uploads/2025/03/Stoneridge-Connect-TU-Listing.png
END:VEVENT
BEGIN:VEVENT
DTSTART;TZID=America/Indiana/Indianapolis:20250423T140000
DTEND;TZID=America/Indiana/Indianapolis:20250423T150000
DTSTAMP:20260421T205414
CREATED:20250423T133135Z
LAST-MODIFIED:20250423T133135Z
UID:10001099-1745416800-1745420400@dynamicsusergroup.com
SUMMARY:Team-Up Partner Showcase: EDI Myths Debunked: Uncovering the Truth with TrueCommerce
DESCRIPTION:REGISTER HERE \nMany businesses think they understand EDI\, but outdated theories often lead to inefficiencies and missed opportunities. In this “EDI Myths Debunked” webinar\, TrueCommerce is setting the record straight—exclusively for Microsoft Dynamics 365 Business Central and Finance & Supply Chain users. Join us as we explore the top five myths about EDI\, from “you must use a specific provider” to “it’s just a compliance tool\,” and discover how modern\, cloud-based EDI solutions can transform your operations. Through real-world examples and success stories\, you’ll see how Dynamics users are leveraging EDI to streamline workflows\, reduce errors\, and drive growth. Don’t miss this opportunity to rethink EDI and unlock its full potential.  \n  \n  \n 
URL:https://dynamicsusergroup.com/event/team-up-partner-showcase-edi-myths-debunked-uncovering-the-truth-with-truecommerce/
LOCATION:Online event
CATEGORIES:Team-Up Partner Event
ATTACH;FMTTYPE=image/png:https://dynamicsusergroup.com/wp-content/uploads/2025/04/True-Commerce-Team-Up-Webinar-DUG-Listing.png
END:VEVENT
END:VCALENDAR