BEGIN:VCALENDAR
VERSION:2.0
PRODID:-//Dynamics User Group - ECPv6.15.12.2//NONSGML v1.0//EN
CALSCALE:GREGORIAN
METHOD:PUBLISH
X-ORIGINAL-URL:https://dynamicsusergroup.com
X-WR-CALDESC:Events for Dynamics User Group
REFRESH-INTERVAL;VALUE=DURATION:PT1H
X-Robots-Tag:noindex
X-PUBLISHED-TTL:PT1H
BEGIN:VTIMEZONE
TZID:America/Indiana/Indianapolis
BEGIN:DAYLIGHT
TZOFFSETFROM:-0500
TZOFFSETTO:-0400
TZNAME:EDT
DTSTART:20230312T070000
END:DAYLIGHT
BEGIN:STANDARD
TZOFFSETFROM:-0400
TZOFFSETTO:-0500
TZNAME:EST
DTSTART:20231105T060000
END:STANDARD
BEGIN:DAYLIGHT
TZOFFSETFROM:-0500
TZOFFSETTO:-0400
TZNAME:EDT
DTSTART:20240310T070000
END:DAYLIGHT
BEGIN:STANDARD
TZOFFSETFROM:-0400
TZOFFSETTO:-0500
TZNAME:EST
DTSTART:20241103T060000
END:STANDARD
BEGIN:DAYLIGHT
TZOFFSETFROM:-0500
TZOFFSETTO:-0400
TZNAME:EDT
DTSTART:20250309T070000
END:DAYLIGHT
BEGIN:STANDARD
TZOFFSETFROM:-0400
TZOFFSETTO:-0500
TZNAME:EST
DTSTART:20251102T060000
END:STANDARD
END:VTIMEZONE
BEGIN:VEVENT
DTSTART;VALUE=DATE:20241120
DTEND;VALUE=DATE:20241122
DTSTAMP:20260422T061841
CREATED:20240910T195917Z
LAST-MODIFIED:20241022T185845Z
UID:10000580-1732060800-1732233599@dynamicsusergroup.com
SUMMARY:D365 Tech Connect 2024
DESCRIPTION:Dynamics User Group (DUG) is the proud Community Sponsor of D365 Tech Connect in Dayton\, OH November 20-21st\, 2024. \nJoin us for two immersive days at D365 Tech Connect\, where you’ll dive into the latest advancements and features in Microsoft Dynamics 365\, including AI\, Co-Pilot\, Machine Learning\, and Power Platform. \nThis event is tailored for technical end-users\, offering a unique chance to connect with industry experts\, Microsoft employees\, and fellow Dynamics users. Participate in deep-dive sessions and workshops to gain practical knowledge and see firsthand how cutting-edge technology can transform your business. \nRegister here ⬇️ using code DUG25 for a 25% discount on your ticket! \nhttps://ellipsesolutions.com/d365-tech-connect/ \n 
URL:https://dynamicsusergroup.com/event/d365-tech-connect-2024/
LOCATION:PNC Arts Annex\, 46 W 2nd St\, Dayton\, 45402\, United States
CATEGORIES:In-Person Conference
ATTACH;FMTTYPE=image/png:https://dynamicsusergroup.com/wp-content/uploads/2024/09/Tech-Connect-Graphic-2.png
END:VEVENT
END:VCALENDAR