BEGIN:VCALENDAR
VERSION:2.0
PRODID:-//Dynamics User Group - ECPv6.15.12.2//NONSGML v1.0//EN
CALSCALE:GREGORIAN
METHOD:PUBLISH
X-WR-CALNAME:Dynamics User Group
X-ORIGINAL-URL:https://dynamicsusergroup.com
X-WR-CALDESC:Events for Dynamics User Group
REFRESH-INTERVAL;VALUE=DURATION:PT1H
X-Robots-Tag:noindex
X-PUBLISHED-TTL:PT1H
BEGIN:VTIMEZONE
TZID:America/Indiana/Indianapolis
BEGIN:DAYLIGHT
TZOFFSETFROM:-0500
TZOFFSETTO:-0400
TZNAME:EDT
DTSTART:20250309T070000
END:DAYLIGHT
BEGIN:STANDARD
TZOFFSETFROM:-0400
TZOFFSETTO:-0500
TZNAME:EST
DTSTART:20251102T060000
END:STANDARD
BEGIN:DAYLIGHT
TZOFFSETFROM:-0500
TZOFFSETTO:-0400
TZNAME:EDT
DTSTART:20260308T070000
END:DAYLIGHT
BEGIN:STANDARD
TZOFFSETFROM:-0400
TZOFFSETTO:-0500
TZNAME:EST
DTSTART:20261101T060000
END:STANDARD
BEGIN:DAYLIGHT
TZOFFSETFROM:-0500
TZOFFSETTO:-0400
TZNAME:EDT
DTSTART:20270314T070000
END:DAYLIGHT
BEGIN:STANDARD
TZOFFSETFROM:-0400
TZOFFSETTO:-0500
TZNAME:EST
DTSTART:20271107T060000
END:STANDARD
END:VTIMEZONE
BEGIN:VEVENT
DTSTART;TZID=America/Indiana/Indianapolis:20260618T073000
DTEND;TZID=America/Indiana/Indianapolis:20260619T160000
DTSTAMP:20260423T175650
CREATED:20260423T172837Z
LAST-MODIFIED:20260423T172837Z
UID:10001627-1781767800-1781884800@dynamicsusergroup.com
SUMMARY:DynamicsCon Regional: Toronto
DESCRIPTION:REGISTER TODAY!\n***Only those who have registered through Eventbrite will be permitted entry to the event. RSVPing on the Meetup site is only to let your group members know you plan to attend.*** \nDUG is excited to bring a FREE Regional event focused on Microsoft Dynamics 365 (BC\, FO/FSC\, CE/CRM) and Power Platform to Toronto\, CA! \nGet ready for a two-day event full of insightful sessions and expert-led content designed for everyone\, from seasoned professionals to those just getting started with Dynamics 365. Local presenters will share their knowledge\, giving you fresh perspectives on the latest trends\, tools\, and best practices in the industry. \nAnd it’s not just about learning\, you’ll also enjoy complimentary coffee and pastries\, a delicious lunch\, and a lively happy hour to wrap up. Thanks to our sponsors\, you’ll also have plenty of chances to connect\, network\, and exchange ideas with other professionals in the community. \nAgenda: \n\nDay 1: June 18 – Focused on Business Central (BC) & Customer Engagement (CE/CRM)\nDay 2: June 19 – Focused on Finance and Operations (FO) & Power Platform (PP)\n\nWant to get involved? \n\nInterested in sponsoring? Fill out the form here and our Sponsorship Sales Manager will be in touch.\n\nDon’t miss this opportunity to learn\, connect\, and be inspired. We can’t wait to see you there!
URL:https://dynamicsusergroup.com/event/dynamicscon-regional-toronto-6/
LOCATION:MicroSoft Office\, CIBC Square\, 81 Bay Street\, Toronto\, M5J 1E6\, CA
CATEGORIES:DUG Meetups
ATTACH;FMTTYPE=image/jpeg:https://dynamicsusergroup.com/wp-content/uploads/2026/04/29152_image_highres_533844146.jpeg
ORGANIZER;CN="Canadian National Microsoft Dynamics 365 CE/CRM Community":MAILTO:meetup-group-vvkzbnjo-announce@messages.meetup.com
END:VEVENT
BEGIN:VEVENT
DTSTART;TZID=America/Indiana/Indianapolis:20260618T073000
DTEND;TZID=America/Indiana/Indianapolis:20260619T160000
DTSTAMP:20260423T175650
CREATED:20260423T173104Z
LAST-MODIFIED:20260423T173104Z
UID:10001628-1781767800-1781884800@dynamicsusergroup.com
SUMMARY:DynamicsCon Regional: Toronto
DESCRIPTION:REGISTER TODAY!\n***Only those who have registered through Eventbrite will be permitted entry to the event. RSVPing on the Meetup site is only to let your group members know you plan to attend.*** \nDUG is excited to bring a FREE Regional event focused on Microsoft Dynamics 365 (BC\, FO/FSC\, CE/CRM) and Power Platform to Toronto\, CA! \nGet ready for a two-day event full of insightful sessions and expert-led content designed for everyone\, from seasoned professionals to those just getting started with Dynamics 365. Local presenters will share their knowledge\, giving you fresh perspectives on the latest trends\, tools\, and best practices in the industry. \nAnd it’s not just about learning\, you’ll also enjoy complimentary coffee and pastries\, a delicious lunch\, and a lively happy hour to wrap up. Thanks to our sponsors\, you’ll also have plenty of chances to connect\, network\, and exchange ideas with other professionals in the community. \nAgenda: \n\nDay 1: June 18 – Focused on Business Central (BC) & Customer Engagement (CE/CRM)\nDay 2: June 19 – Focused on Finance and Operations (FO) & Power Platform (PP)\n\nWant to get involved? \n\nInterested in sponsoring? Fill out the form here and our Sponsorship Sales Manager will be in touch.\n\nDon’t miss this opportunity to learn\, connect\, and be inspired. We can’t wait to see you there!
URL:https://dynamicsusergroup.com/event/dynamicscon-regional-toronto-7/
LOCATION:MicroSoft Office\, CIBC Square\, 81 Bay Street\, Toronto\, M5J 1E6\, CA
CATEGORIES:DUG Meetups
ATTACH;FMTTYPE=image/jpeg:https://dynamicsusergroup.com/wp-content/uploads/2026/04/29162_image_highres_533844138.jpeg
ORGANIZER;CN="Microsoft Dynamics 365 - Province de Qu%C3%A9bec":MAILTO:meetup-group-rwyfjudk-announce@messages.meetup.com
END:VEVENT
BEGIN:VEVENT
DTSTART;TZID=America/Indiana/Indianapolis:20260618T073000
DTEND;TZID=America/Indiana/Indianapolis:20260619T160000
DTSTAMP:20260423T175650
CREATED:20260423T173210Z
LAST-MODIFIED:20260423T173210Z
UID:10001629-1781767800-1781884800@dynamicsusergroup.com
SUMMARY:DynamicsCon Regional: Toronto
DESCRIPTION:REGISTER TODAY!\n***Only those who have registered through Eventbrite will be permitted entry to the event. RSVPing on the Meetup site is only to let your group members know you plan to attend.*** \nDUG is excited to bring a FREE Regional event focused on Microsoft Dynamics 365 (BC\, FO/FSC\, CE/CRM) and Power Platform to Toronto\, CA! \nGet ready for a two-day event full of insightful sessions and expert-led content designed for everyone\, from seasoned professionals to those just getting started with Dynamics 365. Local presenters will share their knowledge\, giving you fresh perspectives on the latest trends\, tools\, and best practices in the industry. \nAnd it’s not just about learning\, you’ll also enjoy complimentary coffee and pastries\, a delicious lunch\, and a lively happy hour to wrap up. Thanks to our sponsors\, you’ll also have plenty of chances to connect\, network\, and exchange ideas with other professionals in the community. \nAgenda: \n\nDay 1: June 18 – Focused on Business Central (BC) & Customer Engagement (CE/CRM)\nDay 2: June 19 – Focused on Finance and Operations (FO) & Power Platform (PP)\n\nWant to get involved? \n\nInterested in sponsoring? Fill out the form here and our Sponsorship Sales Manager will be in touch.\n\nDon’t miss this opportunity to learn\, connect\, and be inspired. We can’t wait to see you there!
URL:https://dynamicsusergroup.com/event/dynamicscon-regional-toronto-8/
LOCATION:MicroSoft Office\, CIBC Square\, 81 Bay Street\, Toronto\, M5J 1E6\, CA
CATEGORIES:DUG Meetups
ATTACH;FMTTYPE=image/jpeg:https://dynamicsusergroup.com/wp-content/uploads/2026/04/29169_image_highres_533844119.jpeg
ORGANIZER;CN="DUG4GOV - Microsoft D365 & Power Platform":MAILTO:meetup-group-aBSOZjWf-announce@messages.meetup.com
END:VEVENT
BEGIN:VEVENT
DTSTART;TZID=America/Indiana/Indianapolis:20260618T073000
DTEND;TZID=America/Indiana/Indianapolis:20260619T160000
DTSTAMP:20260423T175650
CREATED:20260423T173229Z
LAST-MODIFIED:20260423T173229Z
UID:10001630-1781767800-1781884800@dynamicsusergroup.com
SUMMARY:DynamicsCon Regional: Toronto
DESCRIPTION:REGISTER TODAY!\n***Only those who have registered through Eventbrite will be permitted entry to the event. RSVPing on the Meetup site is only to let your group members know you plan to attend.*** \nDUG is excited to bring a FREE Regional event focused on Microsoft Dynamics 365 (BC\, FO/FSC\, CE/CRM) and Power Platform to Toronto\, CA! \nGet ready for a two-day event full of insightful sessions and expert-led content designed for everyone\, from seasoned professionals to those just getting started with Dynamics 365. Local presenters will share their knowledge\, giving you fresh perspectives on the latest trends\, tools\, and best practices in the industry. \nAnd it’s not just about learning\, you’ll also enjoy complimentary coffee and pastries\, a delicious lunch\, and a lively happy hour to wrap up. Thanks to our sponsors\, you’ll also have plenty of chances to connect\, network\, and exchange ideas with other professionals in the community. \nAgenda: \n\nDay 1: June 18 – Focused on Business Central (BC) & Customer Engagement (CE/CRM)\nDay 2: June 19 – Focused on Finance and Operations (FO) & Power Platform (PP)\n\nWant to get involved? \n\nInterested in sponsoring? Fill out the form here and our Sponsorship Sales Manager will be in touch.\n\nDon’t miss this opportunity to learn\, connect\, and be inspired. We can’t wait to see you there!
URL:https://dynamicsusergroup.com/event/dynamicscon-regional-toronto/
LOCATION:MicroSoft Office\, CIBC Square\, 81 Bay Street\, Toronto\, M5J 1E6\, CA
CATEGORIES:DUG Meetups
ATTACH;FMTTYPE=image/jpeg:https://dynamicsusergroup.com/wp-content/uploads/2026/04/29173_image_highres_533844140.jpeg
ORGANIZER;CN="Mentorship Program":MAILTO:meetup-group-ghbgmwic-announce@messages.meetup.com
END:VEVENT
BEGIN:VEVENT
DTSTART;TZID=America/Indiana/Indianapolis:20260618T073000
DTEND;TZID=America/Indiana/Indianapolis:20260619T160000
DTSTAMP:20260423T175650
CREATED:20260423T173422Z
LAST-MODIFIED:20260423T173422Z
UID:10001631-1781767800-1781884800@dynamicsusergroup.com
SUMMARY:DynamicsCon Regional: Toronto
DESCRIPTION:REGISTER TODAY!\n***Only those who have registered through Eventbrite will be permitted entry to the event. RSVPing on the Meetup site is only to let your group members know you plan to attend.*** \nDUG is excited to bring a FREE Regional event focused on Microsoft Dynamics 365 (BC\, FO/FSC\, CE/CRM) and Power Platform to Toronto\, CA! \nGet ready for a two-day event full of insightful sessions and expert-led content designed for everyone\, from seasoned professionals to those just getting started with Dynamics 365. Local presenters will share their knowledge\, giving you fresh perspectives on the latest trends\, tools\, and best practices in the industry. \nAnd it’s not just about learning\, you’ll also enjoy complimentary coffee and pastries\, a delicious lunch\, and a lively happy hour to wrap up. Thanks to our sponsors\, you’ll also have plenty of chances to connect\, network\, and exchange ideas with other professionals in the community. \nAgenda: \n\nDay 1: June 18 – Focused on Business Central (BC) & Customer Engagement (CE/CRM)\nDay 2: June 19 – Focused on Finance and Operations (FO) & Power Platform (PP)\n\nWant to get involved? \n\nInterested in sponsoring? Fill out the form here and our Sponsorship Sales Manager will be in touch.\n\nDon’t miss this opportunity to learn\, connect\, and be inspired. We can’t wait to see you there!
URL:https://dynamicsusergroup.com/event/dynamicscon-regional-toronto-9/
LOCATION:MicroSoft Office\, CIBC Square\, 81 Bay Street\, Toronto\, M5J 1E6\, CA
CATEGORIES:DUG Meetups
ATTACH;FMTTYPE=image/jpeg:https://dynamicsusergroup.com/wp-content/uploads/2026/04/29180_image_highres_533844142.jpeg
ORGANIZER;CN="DUG D365 Enterprise Excellence Meetup":MAILTO:meetup-group-hxjhinza-announce@messages.meetup.com
END:VEVENT
BEGIN:VEVENT
DTSTART;TZID=America/Indiana/Indianapolis:20260630T073000
DTEND;TZID=America/Indiana/Indianapolis:20260630T160000
DTSTAMP:20260423T175650
CREATED:20260401T172457Z
LAST-MODIFIED:20260423T172502Z
UID:10001615-1782804600-1782835200@dynamicsusergroup.com
SUMMARY:Northeast Mega Meetup
DESCRIPTION:REGISTER HERE! \n****Only individuals registered through Eventbrite will be admitted. RSVPs on Meetup are just to see who from your group is attending\, they do not count as tickets.***** \nDUG is excited to bring a FREE Meetup event focused on Microsoft Dynamics 365 products (Business Central\, Customer Engagement and Finance & Operations/SCM) and Power Platform to the Northeast Region! \nWant to get involved? \n\nInterested in speaking? Submit a session HERE! Session submissions end April 20\, 2026.\nInterested in sponsoring? Reach out to Brianna Sierra (brianna@dynamicsusergroup.com) and our Sponsorship Sales Manager will be in touch.\n\nGet ready for a thrilling event packed with cutting-edge content related to Microsoft Dynamics 365 and Power Platform! Whether you’re a seasoned professional or just starting out in the field\, this free event is not to be missed. With local presenters sharing their expertise\, you’ll gain valuable insights into the latest trends and best practices in the industry. \nBut that’s not all! You’ll also enjoy delicious coffee and a scrumptious lunch all for free! And with sponsors on hand\, you’ll have plenty of opportunities to network and connect with like-minded professionals. \nSo\, what are you waiting for? Join us for a day of education\, inspiration\, and fun at this can’t-miss event!
URL:https://dynamicsusergroup.com/event/northeast-mega-meetup/
LOCATION:Stamford\, Stamford\, Stamford\, CT\, US
CATEGORIES:DUG Meetups
ATTACH;FMTTYPE=image/jpeg:https://dynamicsusergroup.com/wp-content/uploads/2026/04/28017_image_highres_533493580.jpeg
ORGANIZER;CN="Microsoft Dynamics 365 &amp%3B Power Platform - Pittsburgh%2C PA":MAILTO:meetup-group-qveeqwyy-announce@messages.meetup.com
END:VEVENT
BEGIN:VEVENT
DTSTART;TZID=America/Indiana/Indianapolis:20260630T073000
DTEND;TZID=America/Indiana/Indianapolis:20260630T160000
DTSTAMP:20260423T175650
CREATED:20260401T172718Z
LAST-MODIFIED:20260423T172720Z
UID:10001616-1782804600-1782835200@dynamicsusergroup.com
SUMMARY:Northeast Mega Meetup
DESCRIPTION:REGISTER HERE! \n****Only individuals registered through Eventbrite will be admitted. RSVPs on Meetup are just to see who from your group is attending\, they do not count as tickets.***** \nDUG is excited to bring a FREE Meetup event focused on Microsoft Dynamics 365 products (Business Central\, Customer Engagement and Finance & Operations/SCM) and Power Platform to the Northeast Region! \nWant to get involved? \n\nInterested in speaking? Submit a session HERE! Session submissions end April 20\, 2026.\nInterested in sponsoring? Reach out to Brianna Sierra (brianna@dynamicsusergroup.com) and our Sponsorship Sales Manager will be in touch.\n\nGet ready for a thrilling event packed with cutting-edge content related to Microsoft Dynamics 365 and Power Platform! Whether you’re a seasoned professional or just starting out in the field\, this free event is not to be missed. With local presenters sharing their expertise\, you’ll gain valuable insights into the latest trends and best practices in the industry. \nBut that’s not all! You’ll also enjoy delicious coffee and a scrumptious lunch all for free! And with sponsors on hand\, you’ll have plenty of opportunities to network and connect with like-minded professionals. \nSo\, what are you waiting for? Join us for a day of education\, inspiration\, and fun at this can’t-miss event!
URL:https://dynamicsusergroup.com/event/northeast-mega-meetup-2/
LOCATION:Stamford Marriott Hotel & Spa\, 243 Tresser Boulevard\, Stamford\, CT\, 06901\, US
CATEGORIES:DUG Meetups
ATTACH;FMTTYPE=image/jpeg:https://dynamicsusergroup.com/wp-content/uploads/2026/04/28024_image_highres_533493616.jpeg
ORGANIZER;CN="Microsoft Dynamics 365 and Power Platform Meetup-Buffalo%2C NY":MAILTO:meetup-group-qbqpapkf-announce@messages.meetup.com
END:VEVENT
BEGIN:VEVENT
DTSTART;TZID=America/Indiana/Indianapolis:20260630T073000
DTEND;TZID=America/Indiana/Indianapolis:20260630T160000
DTSTAMP:20260423T175650
CREATED:20260401T173041Z
LAST-MODIFIED:20260423T173045Z
UID:10001617-1782804600-1782835200@dynamicsusergroup.com
SUMMARY:Northeast Mega Meetup
DESCRIPTION:REGISTER HERE! \n****Only individuals registered through Eventbrite will be admitted. RSVPs on Meetup are just to see who from your group is attending\, they do not count as tickets.***** \nDUG is excited to bring a FREE Meetup event focused on Microsoft Dynamics 365 products (Business Central\, Customer Engagement and Finance & Operations/SCM) and Power Platform to the Northeast Region! \nWant to get involved? \n\nInterested in speaking? Submit a session HERE! Session submissions end April 20\, 2026.\nInterested in sponsoring? Reach out to Brianna Sierra (brianna@dynamicsusergroup.com) and our Sponsorship Sales Manager will be in touch.\n\nGet ready for a thrilling event packed with cutting-edge content related to Microsoft Dynamics 365 and Power Platform! Whether you’re a seasoned professional or just starting out in the field\, this free event is not to be missed. With local presenters sharing their expertise\, you’ll gain valuable insights into the latest trends and best practices in the industry. \nBut that’s not all! You’ll also enjoy delicious coffee and a scrumptious lunch all for free! And with sponsors on hand\, you’ll have plenty of opportunities to network and connect with like-minded professionals. \nSo\, what are you waiting for? Join us for a day of education\, inspiration\, and fun at this can’t-miss event!
URL:https://dynamicsusergroup.com/event/northeast-mega-meetup-3/
LOCATION:Stamford Marriott Hotel & Spa\, 243 Tresser Boulevard\, Stamford\, CT\, 06901\, US
CATEGORIES:DUG Meetups
ATTACH;FMTTYPE=image/jpeg:https://dynamicsusergroup.com/wp-content/uploads/2026/04/28035_image_highres_533493701.jpeg
ORGANIZER;CN="Microsoft Dynamics 365 - New England Region":MAILTO:meetup-group-urksmbgw-announce@messages.meetup.com
END:VEVENT
BEGIN:VEVENT
DTSTART;TZID=America/Indiana/Indianapolis:20260811T193000
DTEND;TZID=America/Indiana/Indianapolis:20260811T210000
DTSTAMP:20260423T175650
CREATED:20251231T173451Z
LAST-MODIFIED:20260423T173450Z
UID:10001491-1786476600-1786482000@dynamicsusergroup.com
SUMMARY:Virtual Meetup TBD
DESCRIPTION:TBD
URL:https://dynamicsusergroup.com/event/virtual-meetup-tbd-5/
LOCATION:Online event
CATEGORIES:DUG Meetups
ATTACH;FMTTYPE=image/jpeg:https://dynamicsusergroup.com/wp-content/uploads/2025/12/25100_image_highres_532017532.jpeg
ORGANIZER;CN="Portland Power Platform User Group":MAILTO:meetup-group-ScasPyxh-announce@messages.meetup.com
END:VEVENT
BEGIN:VEVENT
DTSTART;TZID=America/Indiana/Indianapolis:20260902T083000
DTEND;TZID=America/Indiana/Indianapolis:20260902T160000
DTSTAMP:20260423T175650
CREATED:20260228T173130Z
LAST-MODIFIED:20260423T173129Z
UID:10001548-1788337800-1788364800@dynamicsusergroup.com
SUMMARY:Save the Date: Procure to Pay in D365 FSCM: From Purchase Request to Payment
DESCRIPTION:Save the date for our upcoming DUG DFW all-day meetup focused on Procure to Pay in D365 FSCM — from purchase request through vendor payment. \nWe’ll cover the full P2P lifecycle\, connecting procurement\, receiving\, invoice processing\, and financial settlement. This session is designed for procurement professionals\, accounts payable teams\, and finance leaders who want a clear understanding of how purchasing and payment processes operate end-to-end in D365 FSCM. \nThis meeting will be held on September 2nd\, 2026\, 8:30 am – 4:00 pm at Microsoft Las Colinas Office. Lunch will be served. \nThe detailed agenda and speaker lineup will be posted as we get closer to the meeting — but for now\, please mark your calendar.
URL:https://dynamicsusergroup.com/event/save-the-date-procure-to-pay-in-d365-fscm-from-purchase-request-to-payment/
LOCATION:7000 State Hwy 161\, 7000 State Highway 161\, Irving\, TX\, 75039\, US
CATEGORIES:DUG Meetups
ATTACH;FMTTYPE=image/jpeg:https://dynamicsusergroup.com/wp-content/uploads/2026/02/26430_image_highres_532845703.jpeg
ORGANIZER;CN="Microsoft Dynamics 365 and Power Platform Dallas Ft Worth":MAILTO:meetup-group-biyrbwjn-announce@messages.meetup.com
END:VEVENT
BEGIN:VEVENT
DTSTART;TZID=America/Indiana/Indianapolis:20260908T193000
DTEND;TZID=America/Indiana/Indianapolis:20260908T210000
DTSTAMP:20260423T175650
CREATED:20251231T173452Z
LAST-MODIFIED:20260423T173450Z
UID:10001492-1788895800-1788901200@dynamicsusergroup.com
SUMMARY:Virtual Meetup TBD
DESCRIPTION:TBD
URL:https://dynamicsusergroup.com/event/virtual-meetup-tbd-6/
LOCATION:Online event
CATEGORIES:DUG Meetups
ATTACH;FMTTYPE=image/jpeg:https://dynamicsusergroup.com/wp-content/uploads/2025/12/25102_image_highres_532017492.jpeg
ORGANIZER;CN="Portland Power Platform User Group":MAILTO:meetup-group-ScasPyxh-announce@messages.meetup.com
END:VEVENT
BEGIN:VEVENT
DTSTART;TZID=America/Indiana/Indianapolis:20260917T110000
DTEND;TZID=America/Indiana/Indianapolis:20260917T120000
DTSTAMP:20260423T175650
CREATED:20260211T173423Z
LAST-MODIFIED:20260423T173425Z
UID:10001527-1789642800-1789646400@dynamicsusergroup.com
SUMMARY:D365 Manager & Admin Meetup - Sep 2026
DESCRIPTION:9.00am-10.00am PT (US & Canada)\n12.00pm-1.00pm ET (US & Canada)\n5.00pm-6.00pm GMT (UK)\n6.00pm-7.00pm CET (Europe) \nPlease join us for our September 2026 session.\nDetails to follow. \nWe look forward to connecting!\nBest wishes\,\nNancie\, Tanya\, and Vanda \ndynamicsusergroup
URL:https://dynamicsusergroup.com/event/d365-manager-admin-meetup-sep-2026/
LOCATION:Online event
CATEGORIES:DUG Meetups
ORGANIZER;CN="DUG D365 Enterprise Excellence Meetup":MAILTO:meetup-group-hxjhinza-announce@messages.meetup.com
END:VEVENT
BEGIN:VEVENT
DTSTART;TZID=America/Indiana/Indianapolis:20261013T193000
DTEND;TZID=America/Indiana/Indianapolis:20261013T210000
DTSTAMP:20260423T175650
CREATED:20251231T173453Z
LAST-MODIFIED:20260423T173450Z
UID:10001493-1791919800-1791925200@dynamicsusergroup.com
SUMMARY:Virtual Meetup TBD
DESCRIPTION:TBD
URL:https://dynamicsusergroup.com/event/virtual-meetup-tbd-7/
LOCATION:Online event
CATEGORIES:DUG Meetups
ATTACH;FMTTYPE=image/jpeg:https://dynamicsusergroup.com/wp-content/uploads/2025/12/25104_image_highres_532017448.jpeg
ORGANIZER;CN="Portland Power Platform User Group":MAILTO:meetup-group-ScasPyxh-announce@messages.meetup.com
END:VEVENT
BEGIN:VEVENT
DTSTART;TZID=America/Indiana/Indianapolis:20261105T120000
DTEND;TZID=America/Indiana/Indianapolis:20261105T130000
DTSTAMP:20260423T175650
CREATED:20260211T173423Z
LAST-MODIFIED:20260423T173425Z
UID:10001528-1793880000-1793883600@dynamicsusergroup.com
SUMMARY:D365 Manager & Admin Meetup - Nov 2026
DESCRIPTION:9.00am-10.00am PT (US & Canada)\n12.00pm-1.00pm ET (US & Canada)\n5.00pm-6.00pm GMT (UK)\n6.00pm-7.00pm CET (Europe) \nPlease join us for our November 2026 session.\nDetails to follow. \nWe look forward to connecting!\nBest wishes\,\nNancie\, Tanya\, and Vanda \ndynamicsusergroup
URL:https://dynamicsusergroup.com/event/d365-manager-admin-meetup-nov-2026/
LOCATION:Online event
CATEGORIES:DUG Meetups
ORGANIZER;CN="DUG D365 Enterprise Excellence Meetup":MAILTO:meetup-group-hxjhinza-announce@messages.meetup.com
END:VEVENT
BEGIN:VEVENT
DTSTART;TZID=America/Indiana/Indianapolis:20261203T120000
DTEND;TZID=America/Indiana/Indianapolis:20261203T130000
DTSTAMP:20260423T175650
CREATED:20260211T173423Z
LAST-MODIFIED:20260423T173425Z
UID:10001529-1796299200-1796302800@dynamicsusergroup.com
SUMMARY:D365 Manager & Admin Meetup - Dec 2026
DESCRIPTION:9.00am-10.00am PT (US & Canada)\n12.00pm-1.00pm ET (US & Canada)\n5.00pm-6.00pm GMT (UK)\n6.00pm-7.00pm CET (Europe) \nPlease join us for our final session of 2026!\nDetails to follow. \nWe look forward to connecting!\nBest wishes\,\nNancie\, Tanya\, and Vanda \ndynamicsusergroup
URL:https://dynamicsusergroup.com/event/d365-manager-admin-meetup-dec-2026/
LOCATION:Online event
CATEGORIES:DUG Meetups
ORGANIZER;CN="DUG D365 Enterprise Excellence Meetup":MAILTO:meetup-group-hxjhinza-announce@messages.meetup.com
END:VEVENT
END:VCALENDAR